BEGIN:VCALENDAR
VERSION:2.0
PRODID:-//Squarespace Inc/Squarespace 6//v6//EN
BEGIN:VEVENT
UID:591e29fbff7c504b75d4cb8f@squarespace.com
DTSTAMP:20170519T153700Z
DTSTART:20170621T013000Z
DTEND:20170621T043000Z
SUMMARY:Workshop Your Futures
GEO:37.791926;-122.393836
LOCATION:Sutherland Labs\, 128 Spear Street\, San Francisco\, CA\, 94105\, 
 United States
END:VEVENT
END:VCALENDAR
